BEGIN:VCALENDAR
VERSION:2.0
PRODID:-//ابرشهر دیجیتال ایرانیان - ECPv5.8.0//NONSGML v1.0//EN
CALSCALE:GREGORIAN
METHOD:PUBLISH
X-WR-CALNAME:ابرشهر دیجیتال ایرانیان
X-ORIGINAL-URL:https://abarshahr.com
X-WR-CALDESC:Events for ابرشهر دیجیتال ایرانیان
BEGIN:VTIMEZONE
TZID:Asia/Tehran
BEGIN:DAYLIGHT
TZOFFSETFROM:+0330
TZOFFSETTO:+0430
TZNAME:+0430
DTSTART:20180321T203000
END:DAYLIGHT
BEGIN:STANDARD
TZOFFSETFROM:+0430
TZOFFSETTO:+0330
TZNAME:+0330
DTSTART:20180921T193000
END:STANDARD
END:VTIMEZONE
BEGIN:VEVENT
DTSTART;VALUE=DATE:20181105
DTEND;VALUE=DATE:20181106
DTSTAMP:20260422T195054
CREATED:20180815T083934Z
LAST-MODIFIED:20210713T201153Z
UID:418-1541376000-1541462399@abarshahr.com
SUMMARY:میزگرد جاوا اسکریپت
DESCRIPTION:لورم ایپسوم متن ساختگی با تولید سادگی نامفهوم از صنعت چاپ، و با استفاده از طراحان گرافیک است، چاپگرها و متون بلکه روزنامه و مجله در ستون و سطرآنچنان که لازم است، و برای شرایط فعلی تکنولوژی مورد نیاز، و کاربردهای متنوع با هدف بهبود ابزارهای کاربردی می باشد، کتابهای زیادی در شصت و سه درصد گذشته حال و آینده، شناخت فراوان جامعه و متخصصان را می طلبد، تا با نرم افزارها شناخت بیشتری را برای طراحان رایانه ای علی الخصوص طراحان خلاقی، و فرهنگ پیشرو در زبان فارسی ایجاد کرد، در این صورت می توان امید داشت که تمام و دشواری موجود در ارائه راهکارها، و شرایط سخت تایپ به پایان رسد و زمان مورد نیاز شامل حروفچینی دستاوردهای اصلی، و جوابگوی سوالات پیوسته اهل دنیای موجود طراحی اساسا مورد استفاده قرار گیرد. \nلورم ایپسوم متنی ساختگی\n\nلورم ایپسوم متن ساختگی با تولید سادگی نامفهوم از صنعت چاپ.\nلورم ایپسوم متن ساختگی با تولید سادگی نامفهوم از صنعت چاپ، و با استفاده از طراحان گرافیک است.\nلورم ایپسوم متن ساختگی.\nلورم ایپسوم متن ساختگی با تولید سادگی.\n\nلورم ایپسوم متن ساختگی با تولید سادگی نامفهوم از صنعت چاپ، و با استفاده از طراحان گرافیک است، چاپگرها و متون بلکه روزنامه و مجله در ستون و سطرآنچنان که لازم است، و برای شرایط فعلی تکنولوژی مورد نیاز، و کاربردهای متنوع با هدف بهبود ابزارهای کاربردی می باشد، کتابهای زیادی در شصت و سه درصد گذشته حال و آینده، شناخت فراوان جامعه و متخصصان را می طلبد، تا با نرم افزارها شناخت بیشتری را برای طراحان رایانه ای علی الخصوص طراحان خلاقی، و فرهنگ پیشرو در زبان فارسی ایجاد کرد، در این صورت می توان امید داشت که تمام و دشواری موجود در ارائه راهکارها، و شرایط سخت تایپ به پایان رسد و زمان مورد نیاز شامل حروفچینی دستاوردهای اصلی، و جوابگوی سوالات پیوسته اهل دنیای موجود طراحی اساسا مورد استفاده قرار گیرد.
URL:https://abarshahr.com/event/js-round-table-3/
LOCATION:دفتر مرکزی\, خیابان دولت بین اختیاریه و دیباجی\, تهران\, تهران\, 123456789\, Iran\, Islamic Republic of
ORGANIZER;CN="%D8%A7%D8%AD%D9%85%D8%AF%20%D8%B1%D8%B6%D8%A7%DB%8C%DB%8C":MAILTO:john@email.com
END:VEVENT
END:VCALENDAR